BEGIN:VCALENDAR
VERSION:2.0
PRODID:-//ChamberMaster//Event Calendar 2.0//EN
METHOD:PUBLISH
X-PUBLISHED-TTL:P3D
REFRESH-INTERVAL:P3D
CALSCALE:GREGORIAN
BEGIN:VEVENT
DTSTART:20221204T210000Z
DTEND:20221205T010000Z
X-MICROSOFT-CDO-ALLDAYEVENT:FALSE
SUMMARY:Santa Claus at Fresh Cut Christmas Trees
DESCRIPTION:The Fresh Cut Christmas Trees Family is back for another year with beautiful Oregon grown trees\, wreaths\, garland and some special goodies as well. You'll be destined to be in the holiday spirit with our hand crafted California snow. We are excited to read each and every letter to Santa this year as well\, so please make sure that your child includes their mailing address so Santa can send a return letter.\n\n\n\nSee Santa for Free!\n\nSaturday\, November 26\, 1:00-5:00 p.m.\n\nSunday\, December 4\, 1:00-5:00 p.m.\n\n\n\nThe Hepler Family's Fresh Cut Christmas Trees\n\nAt the Alameda County Fairgrounds\, Gate 8\n\nAt Bernal and Valley Avenue\, Pleasanton\n\nNovember 24-December 21\, 2022\n\n9:00 a.m. to 8:00 p.m. \n\nLearn more online here
X-ALT-DESC;FMTTYPE=text/html:The Fresh Cut Christmas Trees Family is back for another year with beautiful Oregon grown trees\, wreaths\, garland and some special goodies as well. You&#39\;ll be destined to be in the holiday spirit with our hand crafted California snow. We are excited to read each and every letter to Santa this year as well\, so please make sure that your child includes their mailing address so Santa can send a return letter.<br />\n<br />\n<strong>See Santa for Free!</strong><br />\nSaturday\, November 26\, 1:00-5:00 p.m.<br />\nSunday\, December 4\, 1:00-5:00 p.m.<br />\n<br />\n<strong>The Hepler Family&#39\;s Fresh Cut Christmas Trees</strong><br />\n<strong>At the Alameda County Fairgrounds\, Gate 8</strong><br />\nAt Bernal and Valley Avenue\, Pleasanton<br />\nNovember 24-December 21\, 2022<br />\n9:00 a.m. to 8:00 p.m.&nbsp\;<br />\n<a href="https://www.fctrees.com/">Learn more online here</a><br />\n<br />\n&nbsp\;
LOCATION:Alameda County Fairgrounds\, Gate 8
UID:e.1496.3895
SEQUENCE:3
DTSTAMP:20260422T202543Z
URL:https://business.pleasanton.org/events/details/santa-claus-at-fresh-cut-christmas-trees-3895
END:VEVENT

END:VCALENDAR
