BEGIN:VCALENDAR
VERSION:2.0
PRODID:-//ChamberMaster//Event Calendar 2.0//EN
METHOD:PUBLISH
X-PUBLISHED-TTL:P3D
REFRESH-INTERVAL:P3D
CALSCALE:GREGORIAN
BEGIN:VEVENT
DTSTART:20250814T000000Z
DTEND:20250814T020000Z
X-MICROSOFT-CDO-ALLDAYEVENT:FALSE
SUMMARY:Networking Mixer 8.13.25
DESCRIPTION:The August Networking Mixer is hosted by\n\nFrontier Energy\, Food Service Tech Center\n\n1075 Serpentine Lane\, Suite B\, Pleasanton\n\n\n\nWednesday\, August 13\, 2025\n\n5:00 to 7:00 p.m.\n\n\n\nNetworking mixers are a benefit of chamber membership and are free for members to attend. Please register in advance.\n\n\n\nProspective members & guests are welcome to attend one mixer to evaluate the benefits of membership. Contact the Chamber with any questions\, (925) 846-5858 ext. 202 or email jeanette@pleasanton.org.\n\n\n\nWho we are:\n\nWe are a dedicated team of engineers\, technicians\, culinary arts experts\, educators\, and energy specialists. We use our expertise to encourage the commercial foodservice industry to become more sustainable in their purchasing decisions and operations.\n\nAs Frontier Energy's Foodservice Division\, we believe in a diverse energy future invested in conservation\, efficiency\, and new technology. Our rigorous\, unbiased lab and field research is the foundation of everything we do\, from our educational events to our program work. As the most highly regarded commercial foodservice testing lab in the United States\, we are the leading source of energy efficiency information for the foodservice industry.
X-ALT-DESC;FMTTYPE=text/html:<p style="margin-bottom: 0pt\; text-align: center\;"><span style="font-size:16px\;"><span style="font-family:arial\;"><span style="color:black\;">The August Networking Mixer is hosted by</span></span></span></p>\n\n<p style="margin-bottom: 0pt\; text-align: center\;"><span style="font-size:14px\;"><span style="font-family:arial\;"><span style="color:black\;"><strong><span style="font-size:18px\;">Frontier Energy\, Food Service Tech Center</span></strong><br />\n1075 Serpentine Lane\, Suite B\,&nbsp\;</span></span></span><span style="color: black\; font-family: arial\; font-size: 14px\;">Pleasanton<br />\n<br />\n<span style="font-size:18px\;"><strong>Wednesday\, August 13\, 2025<br />\n5:00 to 7:00 p.m.</strong></span></span></p>\n\n<p style="margin-bottom: 0pt\;"><br />\n<span style="font-size:14px\;"><span style="font-family:arial\;"><span style="color:black\;">Networking mixers are a benefit of chamber membership and are free for members to attend. </span><span style="font-weight:bold\;language:en-US\;"><span style="color:black\;">Please register in advance.</span></span><br />\n<br />\n<span style="font-weight:bold\;language:en-US\;"><span style="color:black\;">Prospective members &amp\; guests</span></span><span style="color:black\;"> are welcome to attend one mixer to evaluate the benefits of membership. Contact the Chamber with any questions\, (925) 846-5858 ext. 202&nbsp\;or email <a href="mailto:jeanette@pleasanton.org">jeanette@pleasanton.org</a>.</span></span></span><br />\n<br />\n<strong>Who we are:</strong></p>\n\n<p style="box-sizing: border-box\; margin-top: 0px\; margin-bottom: 18px\; color: rgb(67\, 67\, 69)\; font-family: Lato\, Helvetica\, Arial\, sans-serif\; font-size: 16px\;"><span style="font-size:14px\;">We are a dedicated team of engineers\, technicians\, culinary arts experts\, educators\, and energy specialists. We use our expertise to encourage the commercial foodservice industry to become more sustainable in their purchasing decisions and operations.</span></p>\n\n<p style="box-sizing: border-box\; margin-top: 18px\; margin-bottom: 0px\; color: rgb(67\, 67\, 69)\; font-family: Lato\, Helvetica\, Arial\, sans-serif\; font-size: 16px\;"><span style="font-size:14px\;">As Frontier Energy&#39\;s Foodservice Division\, we believe in a diverse energy future invested in conservation\, efficiency\, and new technology. Our rigorous\, unbiased lab and field research is the foundation of everything we do\, from our educational events to our program work. As the most highly regarded commercial foodservice testing lab in the United States\, we are&nbsp\;<i style="box-sizing: border-box\; margin-top: 0px\; margin-bottom: 0px\;">the</i>&nbsp\;leading source of energy efficiency information for the foodservice industry.</span></p>\n
LOCATION:
UID:e.1496.4519
SEQUENCE:3
DTSTAMP:20260424T075537Z
URL:https://business.pleasanton.org/events/details/networking-mixer-8-13-25-4519
END:VEVENT

END:VCALENDAR
