BEGIN:VCALENDAR
VERSION:2.0
PRODID:-//ChamberMaster//Event Calendar 2.0//EN
METHOD:PUBLISH
X-PUBLISHED-TTL:P3D
REFRESH-INTERVAL:P3D
CALSCALE:GREGORIAN
BEGIN:VEVENT
DTSTART:20240122T153000Z
DTEND:20240122T173000Z
X-MICROSOFT-CDO-ALLDAYEVENT:FALSE
SUMMARY:24th Annual Dr. Martin Luther King\, Jr. Fellowship Breakfast
DESCRIPTION:The Pleasanton Community of Character Collaborative is pleased to present the 24th annual Dr. Martin Luther King\, Jr. Fellowship Breakfast.\n\n\n\nFeaturing\n\n	Keynote Speaker Jacqueline D. Brown\, "DIVE (Difference + Invited + Valued + Embraced): Bridging Character\, Unity\, and Inclusive Leadership in Dr. King's Dream"
X-ALT-DESC;FMTTYPE=text/html:The Pleasanton Community of Character Collaborative is pleased to present the 24th annual Dr. Martin Luther King\, Jr. Fellowship Breakfast.<br />\n<br />\nFeaturing\n<ul>\n	<li>Keynote Speaker Jacqueline D. Brown\, &quot\;DIVE (Difference + Invited + Valued + Embraced): Bridging Character\, Unity\, and Inclusive Leadership in Dr. King&#39\;s Dream&rdquo\;</li>\n</ul>\n
LOCATION:DoubleTree by Hilton Pleasanton at The Club
UID:e.1496.4247
SEQUENCE:3
DTSTAMP:20260420T192804Z
URL:https://business.pleasanton.org/events/details/24th-annual-dr-martin-luther-king-jr-fellowship-breakfast-4247
END:VEVENT

END:VCALENDAR
